BEGIN:VCALENDAR
VERSION:2.0
PRODID:-//Tukios.com/
BEGIN:VEVENT
UID:af0e4e94-ba1b-4a21-b92c-4b73ca502b65@www.wrightferguson.com
DTSTAMP:20260423T234728Z
DTSTART:20260424T170000Z
DTEND:20260424T180000Z
SUMMARY:Memorial Service
DESCRIPTION:
URL:https://www.wrightferguson.com/obituaries/w-aultman
LOCATION:First Baptist Church 100 East College Street  Clinton MS 39056
GEO:32.3374289;-90.3282237
END:VEVENT
END:VCALENDAR