BEGIN:VCALENDAR
VERSION:2.0
PRODID:-//Tukios.com/
BEGIN:VEVENT
UID:ff0c31f5-4d5b-485a-939b-f2ff7dc90e30@www.wrightferguson.com
DTSTAMP:20260423T234728Z
DTSTART:20260424T150000Z
DTEND:20260424T170000Z
SUMMARY:Visitation
DESCRIPTION:
URL:https://www.wrightferguson.com/obituaries/w-aultman
LOCATION:First Baptist Church 100 East College Street  Clinton MS 39056
GEO:32.3374289;-90.3282237
END:VEVENT
END:VCALENDAR