BEGIN:VCALENDAR
VERSION:2.0
PRODID:-//Tukios.com/
BEGIN:VEVENT
UID:52ad4615-5b99-4f91-9568-5611848c2594@www.wrightferguson.com
DTSTAMP:20260423T234728Z
DTSTART:20260424T160000Z
DTEND:20260424T170000Z
SUMMARY:Funeral
DESCRIPTION:
URL:https://www.wrightferguson.com/obituaries/john-sullivan-jr
LOCATION:Clinton Methodist Church 100 Mt Salus Rd  Clinton MS 39056
GEO:32.3330712;-90.3180486
END:VEVENT
END:VCALENDAR