BEGIN:VCALENDAR
VERSION:2.0
PRODID:-//Tukios.com/
BEGIN:VEVENT
UID:a1b4ea92-337f-4b24-abab-becc9d9a38ae@www.wrightferguson.com
DTSTAMP:20260424T010154Z
DTSTART:20260606T210000Z
DTEND:20260606T220000Z
SUMMARY:Celebration of Life
DESCRIPTION:
URL:https://www.wrightferguson.com/obituaries/jerry-scott
LOCATION:Tommy's Trading Post 4238 Mississippi 43  Brandon MS 39047
GEO:32.5045529;-89.9292274
END:VEVENT
END:VCALENDAR